BEGIN:VCALENDAR
VERSION:2.0
PRODID:-//Laudato Si&#039; Movement - ECPv6.15.20//NONSGML v1.0//EN
CALSCALE:GREGORIAN
METHOD:PUBLISH
X-ORIGINAL-URL:https://laudatosimovement.org
X-WR-CALDESC:Events for Laudato Si&#039; Movement
REFRESH-INTERVAL;VALUE=DURATION:PT1H
X-Robots-Tag:noindex
X-PUBLISHED-TTL:PT1H
BEGIN:VTIMEZONE
TZID:Europe/Rome
BEGIN:DAYLIGHT
TZOFFSETFROM:+0100
TZOFFSETTO:+0200
TZNAME:CEST
DTSTART:20290325T010000
END:DAYLIGHT
BEGIN:STANDARD
TZOFFSETFROM:+0200
TZOFFSETTO:+0100
TZNAME:CET
DTSTART:20291028T010000
END:STANDARD
BEGIN:DAYLIGHT
TZOFFSETFROM:+0100
TZOFFSETTO:+0200
TZNAME:CEST
DTSTART:20300331T010000
END:DAYLIGHT
BEGIN:STANDARD
TZOFFSETFROM:+0200
TZOFFSETTO:+0100
TZNAME:CET
DTSTART:20301027T010000
END:STANDARD
BEGIN:DAYLIGHT
TZOFFSETFROM:+0100
TZOFFSETTO:+0200
TZNAME:CEST
DTSTART:20310330T010000
END:DAYLIGHT
BEGIN:STANDARD
TZOFFSETFROM:+0200
TZOFFSETTO:+0100
TZNAME:CET
DTSTART:20311026T010000
END:STANDARD
BEGIN:DAYLIGHT
TZOFFSETFROM:+0100
TZOFFSETTO:+0200
TZNAME:CEST
DTSTART:20320328T010000
END:DAYLIGHT
BEGIN:STANDARD
TZOFFSETFROM:+0200
TZOFFSETTO:+0100
TZNAME:CET
DTSTART:20321031T010000
END:STANDARD
END:VTIMEZONE
BEGIN:VEVENT
DTSTART;TZID=Europe/Rome:20301030T180000
DTEND;TZID=Europe/Rome:20301030T190000
DTSTAMP:20260420T065720
CREATED:20250714T133144Z
LAST-MODIFIED:20260309T134829Z
UID:10000916-1919613600-1919617200@laudatosimovement.org
SUMMARY:LAUDATO SI COMMUNITY CONTEMPLATION
DESCRIPTION:A sacred contemplation space for spiritual nourishment and ecological conversion. – Shorter version\nWhat to Expect:\n• Sessions (in English only) that last about 30–40 minutes\n• Each includes a short reflection\, opening prayer\, and a contemplative practice\n• At the half-hour mark\, those who need to leave may quietly sign off\n• Others are welcome to stay for 10 minutes of small group sharing\, building spiritual community\, and solidarity\n• We close together with a final goodbye \nThis weekly rhythm of community contemplation helps us live more deeply into our ecological vocation\, remembering that we are instruments of a God who leads us—even when we cannot yet see the path. \nJoin us every Wednesday at 12:00 PM (Noon) ET / NYC time\nhttps://us06web.zoom.us/j/83286188244\nPasscode: 240515 (you may or may not be prompted to enter the password)\nNo registration needed
URL:https://laudatosimovement.org/event/laudato-si-community-contemplation-9/2030-10-30/
LOCATION:online
END:VEVENT
BEGIN:VEVENT
DTSTART;TZID=Europe/Rome:20301106T180000
DTEND;TZID=Europe/Rome:20301106T190000
DTSTAMP:20260420T065720
CREATED:20250714T133144Z
LAST-MODIFIED:20260309T134829Z
UID:10000917-1920218400-1920222000@laudatosimovement.org
SUMMARY:LAUDATO SI COMMUNITY CONTEMPLATION
DESCRIPTION:A sacred contemplation space for spiritual nourishment and ecological conversion. – Shorter version\nWhat to Expect:\n• Sessions (in English only) that last about 30–40 minutes\n• Each includes a short reflection\, opening prayer\, and a contemplative practice\n• At the half-hour mark\, those who need to leave may quietly sign off\n• Others are welcome to stay for 10 minutes of small group sharing\, building spiritual community\, and solidarity\n• We close together with a final goodbye \nThis weekly rhythm of community contemplation helps us live more deeply into our ecological vocation\, remembering that we are instruments of a God who leads us—even when we cannot yet see the path. \nJoin us every Wednesday at 12:00 PM (Noon) ET / NYC time\nhttps://us06web.zoom.us/j/83286188244\nPasscode: 240515 (you may or may not be prompted to enter the password)\nNo registration needed
URL:https://laudatosimovement.org/event/laudato-si-community-contemplation-9/2030-11-06/
LOCATION:online
END:VEVENT
BEGIN:VEVENT
DTSTART;TZID=Europe/Rome:20301113T180000
DTEND;TZID=Europe/Rome:20301113T190000
DTSTAMP:20260420T065720
CREATED:20250714T133144Z
LAST-MODIFIED:20260309T134829Z
UID:10000918-1920823200-1920826800@laudatosimovement.org
SUMMARY:LAUDATO SI COMMUNITY CONTEMPLATION
DESCRIPTION:A sacred contemplation space for spiritual nourishment and ecological conversion. – Shorter version\nWhat to Expect:\n• Sessions (in English only) that last about 30–40 minutes\n• Each includes a short reflection\, opening prayer\, and a contemplative practice\n• At the half-hour mark\, those who need to leave may quietly sign off\n• Others are welcome to stay for 10 minutes of small group sharing\, building spiritual community\, and solidarity\n• We close together with a final goodbye \nThis weekly rhythm of community contemplation helps us live more deeply into our ecological vocation\, remembering that we are instruments of a God who leads us—even when we cannot yet see the path. \nJoin us every Wednesday at 12:00 PM (Noon) ET / NYC time\nhttps://us06web.zoom.us/j/83286188244\nPasscode: 240515 (you may or may not be prompted to enter the password)\nNo registration needed
URL:https://laudatosimovement.org/event/laudato-si-community-contemplation-9/2030-11-13/
LOCATION:online
END:VEVENT
BEGIN:VEVENT
DTSTART;TZID=Europe/Rome:20301120T180000
DTEND;TZID=Europe/Rome:20301120T190000
DTSTAMP:20260420T065720
CREATED:20250714T133144Z
LAST-MODIFIED:20260309T134829Z
UID:10000919-1921428000-1921431600@laudatosimovement.org
SUMMARY:LAUDATO SI COMMUNITY CONTEMPLATION
DESCRIPTION:A sacred contemplation space for spiritual nourishment and ecological conversion. – Shorter version\nWhat to Expect:\n• Sessions (in English only) that last about 30–40 minutes\n• Each includes a short reflection\, opening prayer\, and a contemplative practice\n• At the half-hour mark\, those who need to leave may quietly sign off\n• Others are welcome to stay for 10 minutes of small group sharing\, building spiritual community\, and solidarity\n• We close together with a final goodbye \nThis weekly rhythm of community contemplation helps us live more deeply into our ecological vocation\, remembering that we are instruments of a God who leads us—even when we cannot yet see the path. \nJoin us every Wednesday at 12:00 PM (Noon) ET / NYC time\nhttps://us06web.zoom.us/j/83286188244\nPasscode: 240515 (you may or may not be prompted to enter the password)\nNo registration needed
URL:https://laudatosimovement.org/event/laudato-si-community-contemplation-9/2030-11-20/
LOCATION:online
END:VEVENT
BEGIN:VEVENT
DTSTART;TZID=Europe/Rome:20301127T180000
DTEND;TZID=Europe/Rome:20301127T190000
DTSTAMP:20260420T065720
CREATED:20250714T133144Z
LAST-MODIFIED:20260309T134829Z
UID:10000920-1922032800-1922036400@laudatosimovement.org
SUMMARY:LAUDATO SI COMMUNITY CONTEMPLATION
DESCRIPTION:A sacred contemplation space for spiritual nourishment and ecological conversion. – Shorter version\nWhat to Expect:\n• Sessions (in English only) that last about 30–40 minutes\n• Each includes a short reflection\, opening prayer\, and a contemplative practice\n• At the half-hour mark\, those who need to leave may quietly sign off\n• Others are welcome to stay for 10 minutes of small group sharing\, building spiritual community\, and solidarity\n• We close together with a final goodbye \nThis weekly rhythm of community contemplation helps us live more deeply into our ecological vocation\, remembering that we are instruments of a God who leads us—even when we cannot yet see the path. \nJoin us every Wednesday at 12:00 PM (Noon) ET / NYC time\nhttps://us06web.zoom.us/j/83286188244\nPasscode: 240515 (you may or may not be prompted to enter the password)\nNo registration needed
URL:https://laudatosimovement.org/event/laudato-si-community-contemplation-9/2030-11-27/
LOCATION:online
END:VEVENT
BEGIN:VEVENT
DTSTART;TZID=Europe/Rome:20301204T180000
DTEND;TZID=Europe/Rome:20301204T190000
DTSTAMP:20260420T065720
CREATED:20250714T133144Z
LAST-MODIFIED:20260309T134829Z
UID:10000921-1922637600-1922641200@laudatosimovement.org
SUMMARY:LAUDATO SI COMMUNITY CONTEMPLATION
DESCRIPTION:A sacred contemplation space for spiritual nourishment and ecological conversion. – Shorter version\nWhat to Expect:\n• Sessions (in English only) that last about 30–40 minutes\n• Each includes a short reflection\, opening prayer\, and a contemplative practice\n• At the half-hour mark\, those who need to leave may quietly sign off\n• Others are welcome to stay for 10 minutes of small group sharing\, building spiritual community\, and solidarity\n• We close together with a final goodbye \nThis weekly rhythm of community contemplation helps us live more deeply into our ecological vocation\, remembering that we are instruments of a God who leads us—even when we cannot yet see the path. \nJoin us every Wednesday at 12:00 PM (Noon) ET / NYC time\nhttps://us06web.zoom.us/j/83286188244\nPasscode: 240515 (you may or may not be prompted to enter the password)\nNo registration needed
URL:https://laudatosimovement.org/event/laudato-si-community-contemplation-9/2030-12-04/
LOCATION:online
END:VEVENT
BEGIN:VEVENT
DTSTART;TZID=Europe/Rome:20301211T180000
DTEND;TZID=Europe/Rome:20301211T190000
DTSTAMP:20260420T065720
CREATED:20250714T133144Z
LAST-MODIFIED:20260309T134829Z
UID:10000922-1923242400-1923246000@laudatosimovement.org
SUMMARY:LAUDATO SI COMMUNITY CONTEMPLATION
DESCRIPTION:A sacred contemplation space for spiritual nourishment and ecological conversion. – Shorter version\nWhat to Expect:\n• Sessions (in English only) that last about 30–40 minutes\n• Each includes a short reflection\, opening prayer\, and a contemplative practice\n• At the half-hour mark\, those who need to leave may quietly sign off\n• Others are welcome to stay for 10 minutes of small group sharing\, building spiritual community\, and solidarity\n• We close together with a final goodbye \nThis weekly rhythm of community contemplation helps us live more deeply into our ecological vocation\, remembering that we are instruments of a God who leads us—even when we cannot yet see the path. \nJoin us every Wednesday at 12:00 PM (Noon) ET / NYC time\nhttps://us06web.zoom.us/j/83286188244\nPasscode: 240515 (you may or may not be prompted to enter the password)\nNo registration needed
URL:https://laudatosimovement.org/event/laudato-si-community-contemplation-9/2030-12-11/
LOCATION:online
END:VEVENT
BEGIN:VEVENT
DTSTART;TZID=Europe/Rome:20301218T180000
DTEND;TZID=Europe/Rome:20301218T190000
DTSTAMP:20260420T065720
CREATED:20250714T133144Z
LAST-MODIFIED:20260309T134829Z
UID:10000923-1923847200-1923850800@laudatosimovement.org
SUMMARY:LAUDATO SI COMMUNITY CONTEMPLATION
DESCRIPTION:A sacred contemplation space for spiritual nourishment and ecological conversion. – Shorter version\nWhat to Expect:\n• Sessions (in English only) that last about 30–40 minutes\n• Each includes a short reflection\, opening prayer\, and a contemplative practice\n• At the half-hour mark\, those who need to leave may quietly sign off\n• Others are welcome to stay for 10 minutes of small group sharing\, building spiritual community\, and solidarity\n• We close together with a final goodbye \nThis weekly rhythm of community contemplation helps us live more deeply into our ecological vocation\, remembering that we are instruments of a God who leads us—even when we cannot yet see the path. \nJoin us every Wednesday at 12:00 PM (Noon) ET / NYC time\nhttps://us06web.zoom.us/j/83286188244\nPasscode: 240515 (you may or may not be prompted to enter the password)\nNo registration needed
URL:https://laudatosimovement.org/event/laudato-si-community-contemplation-9/2030-12-18/
LOCATION:online
END:VEVENT
BEGIN:VEVENT
DTSTART;TZID=Europe/Rome:20301225T180000
DTEND;TZID=Europe/Rome:20301225T190000
DTSTAMP:20260420T065720
CREATED:20250714T133144Z
LAST-MODIFIED:20260309T134829Z
UID:10000924-1924452000-1924455600@laudatosimovement.org
SUMMARY:LAUDATO SI COMMUNITY CONTEMPLATION
DESCRIPTION:A sacred contemplation space for spiritual nourishment and ecological conversion. – Shorter version\nWhat to Expect:\n• Sessions (in English only) that last about 30–40 minutes\n• Each includes a short reflection\, opening prayer\, and a contemplative practice\n• At the half-hour mark\, those who need to leave may quietly sign off\n• Others are welcome to stay for 10 minutes of small group sharing\, building spiritual community\, and solidarity\n• We close together with a final goodbye \nThis weekly rhythm of community contemplation helps us live more deeply into our ecological vocation\, remembering that we are instruments of a God who leads us—even when we cannot yet see the path. \nJoin us every Wednesday at 12:00 PM (Noon) ET / NYC time\nhttps://us06web.zoom.us/j/83286188244\nPasscode: 240515 (you may or may not be prompted to enter the password)\nNo registration needed
URL:https://laudatosimovement.org/event/laudato-si-community-contemplation-9/2030-12-25/
LOCATION:online
END:VEVENT
BEGIN:VEVENT
DTSTART;TZID=Europe/Rome:20310101T180000
DTEND;TZID=Europe/Rome:20310101T190000
DTSTAMP:20260420T065720
CREATED:20250714T133144Z
LAST-MODIFIED:20260309T134829Z
UID:10000925-1925056800-1925060400@laudatosimovement.org
SUMMARY:LAUDATO SI COMMUNITY CONTEMPLATION
DESCRIPTION:A sacred contemplation space for spiritual nourishment and ecological conversion. – Shorter version\nWhat to Expect:\n• Sessions (in English only) that last about 30–40 minutes\n• Each includes a short reflection\, opening prayer\, and a contemplative practice\n• At the half-hour mark\, those who need to leave may quietly sign off\n• Others are welcome to stay for 10 minutes of small group sharing\, building spiritual community\, and solidarity\n• We close together with a final goodbye \nThis weekly rhythm of community contemplation helps us live more deeply into our ecological vocation\, remembering that we are instruments of a God who leads us—even when we cannot yet see the path. \nJoin us every Wednesday at 12:00 PM (Noon) ET / NYC time\nhttps://us06web.zoom.us/j/83286188244\nPasscode: 240515 (you may or may not be prompted to enter the password)\nNo registration needed
URL:https://laudatosimovement.org/event/laudato-si-community-contemplation-9/2031-01-01/
LOCATION:online
END:VEVENT
BEGIN:VEVENT
DTSTART;TZID=Europe/Rome:20310108T180000
DTEND;TZID=Europe/Rome:20310108T190000
DTSTAMP:20260420T065720
CREATED:20250714T133144Z
LAST-MODIFIED:20260309T134829Z
UID:10000926-1925661600-1925665200@laudatosimovement.org
SUMMARY:LAUDATO SI COMMUNITY CONTEMPLATION
DESCRIPTION:A sacred contemplation space for spiritual nourishment and ecological conversion. – Shorter version\nWhat to Expect:\n• Sessions (in English only) that last about 30–40 minutes\n• Each includes a short reflection\, opening prayer\, and a contemplative practice\n• At the half-hour mark\, those who need to leave may quietly sign off\n• Others are welcome to stay for 10 minutes of small group sharing\, building spiritual community\, and solidarity\n• We close together with a final goodbye \nThis weekly rhythm of community contemplation helps us live more deeply into our ecological vocation\, remembering that we are instruments of a God who leads us—even when we cannot yet see the path. \nJoin us every Wednesday at 12:00 PM (Noon) ET / NYC time\nhttps://us06web.zoom.us/j/83286188244\nPasscode: 240515 (you may or may not be prompted to enter the password)\nNo registration needed
URL:https://laudatosimovement.org/event/laudato-si-community-contemplation-9/2031-01-08/
LOCATION:online
END:VEVENT
BEGIN:VEVENT
DTSTART;TZID=Europe/Rome:20310115T180000
DTEND;TZID=Europe/Rome:20310115T190000
DTSTAMP:20260420T065720
CREATED:20250714T133144Z
LAST-MODIFIED:20260309T134829Z
UID:10000927-1926266400-1926270000@laudatosimovement.org
SUMMARY:LAUDATO SI COMMUNITY CONTEMPLATION
DESCRIPTION:A sacred contemplation space for spiritual nourishment and ecological conversion. – Shorter version\nWhat to Expect:\n• Sessions (in English only) that last about 30–40 minutes\n• Each includes a short reflection\, opening prayer\, and a contemplative practice\n• At the half-hour mark\, those who need to leave may quietly sign off\n• Others are welcome to stay for 10 minutes of small group sharing\, building spiritual community\, and solidarity\n• We close together with a final goodbye \nThis weekly rhythm of community contemplation helps us live more deeply into our ecological vocation\, remembering that we are instruments of a God who leads us—even when we cannot yet see the path. \nJoin us every Wednesday at 12:00 PM (Noon) ET / NYC time\nhttps://us06web.zoom.us/j/83286188244\nPasscode: 240515 (you may or may not be prompted to enter the password)\nNo registration needed
URL:https://laudatosimovement.org/event/laudato-si-community-contemplation-9/2031-01-15/
LOCATION:online
END:VEVENT
BEGIN:VEVENT
DTSTART;TZID=Europe/Rome:20310122T180000
DTEND;TZID=Europe/Rome:20310122T190000
DTSTAMP:20260420T065720
CREATED:20250714T133144Z
LAST-MODIFIED:20260309T134829Z
UID:10000928-1926871200-1926874800@laudatosimovement.org
SUMMARY:LAUDATO SI COMMUNITY CONTEMPLATION
DESCRIPTION:A sacred contemplation space for spiritual nourishment and ecological conversion. – Shorter version\nWhat to Expect:\n• Sessions (in English only) that last about 30–40 minutes\n• Each includes a short reflection\, opening prayer\, and a contemplative practice\n• At the half-hour mark\, those who need to leave may quietly sign off\n• Others are welcome to stay for 10 minutes of small group sharing\, building spiritual community\, and solidarity\n• We close together with a final goodbye \nThis weekly rhythm of community contemplation helps us live more deeply into our ecological vocation\, remembering that we are instruments of a God who leads us—even when we cannot yet see the path. \nJoin us every Wednesday at 12:00 PM (Noon) ET / NYC time\nhttps://us06web.zoom.us/j/83286188244\nPasscode: 240515 (you may or may not be prompted to enter the password)\nNo registration needed
URL:https://laudatosimovement.org/event/laudato-si-community-contemplation-9/2031-01-22/
LOCATION:online
END:VEVENT
BEGIN:VEVENT
DTSTART;TZID=Europe/Rome:20310129T180000
DTEND;TZID=Europe/Rome:20310129T190000
DTSTAMP:20260420T065720
CREATED:20250714T133144Z
LAST-MODIFIED:20260309T134829Z
UID:10000929-1927476000-1927479600@laudatosimovement.org
SUMMARY:LAUDATO SI COMMUNITY CONTEMPLATION
DESCRIPTION:A sacred contemplation space for spiritual nourishment and ecological conversion. – Shorter version\nWhat to Expect:\n• Sessions (in English only) that last about 30–40 minutes\n• Each includes a short reflection\, opening prayer\, and a contemplative practice\n• At the half-hour mark\, those who need to leave may quietly sign off\n• Others are welcome to stay for 10 minutes of small group sharing\, building spiritual community\, and solidarity\n• We close together with a final goodbye \nThis weekly rhythm of community contemplation helps us live more deeply into our ecological vocation\, remembering that we are instruments of a God who leads us—even when we cannot yet see the path. \nJoin us every Wednesday at 12:00 PM (Noon) ET / NYC time\nhttps://us06web.zoom.us/j/83286188244\nPasscode: 240515 (you may or may not be prompted to enter the password)\nNo registration needed
URL:https://laudatosimovement.org/event/laudato-si-community-contemplation-9/2031-01-29/
LOCATION:online
END:VEVENT
BEGIN:VEVENT
DTSTART;TZID=Europe/Rome:20310205T180000
DTEND;TZID=Europe/Rome:20310205T190000
DTSTAMP:20260420T065720
CREATED:20250714T133144Z
LAST-MODIFIED:20260309T134829Z
UID:10000930-1928080800-1928084400@laudatosimovement.org
SUMMARY:LAUDATO SI COMMUNITY CONTEMPLATION
DESCRIPTION:A sacred contemplation space for spiritual nourishment and ecological conversion. – Shorter version\nWhat to Expect:\n• Sessions (in English only) that last about 30–40 minutes\n• Each includes a short reflection\, opening prayer\, and a contemplative practice\n• At the half-hour mark\, those who need to leave may quietly sign off\n• Others are welcome to stay for 10 minutes of small group sharing\, building spiritual community\, and solidarity\n• We close together with a final goodbye \nThis weekly rhythm of community contemplation helps us live more deeply into our ecological vocation\, remembering that we are instruments of a God who leads us—even when we cannot yet see the path. \nJoin us every Wednesday at 12:00 PM (Noon) ET / NYC time\nhttps://us06web.zoom.us/j/83286188244\nPasscode: 240515 (you may or may not be prompted to enter the password)\nNo registration needed
URL:https://laudatosimovement.org/event/laudato-si-community-contemplation-9/2031-02-05/
LOCATION:online
END:VEVENT
BEGIN:VEVENT
DTSTART;TZID=Europe/Rome:20310212T180000
DTEND;TZID=Europe/Rome:20310212T190000
DTSTAMP:20260420T065720
CREATED:20250714T133144Z
LAST-MODIFIED:20260309T134829Z
UID:10000931-1928685600-1928689200@laudatosimovement.org
SUMMARY:LAUDATO SI COMMUNITY CONTEMPLATION
DESCRIPTION:A sacred contemplation space for spiritual nourishment and ecological conversion. – Shorter version\nWhat to Expect:\n• Sessions (in English only) that last about 30–40 minutes\n• Each includes a short reflection\, opening prayer\, and a contemplative practice\n• At the half-hour mark\, those who need to leave may quietly sign off\n• Others are welcome to stay for 10 minutes of small group sharing\, building spiritual community\, and solidarity\n• We close together with a final goodbye \nThis weekly rhythm of community contemplation helps us live more deeply into our ecological vocation\, remembering that we are instruments of a God who leads us—even when we cannot yet see the path. \nJoin us every Wednesday at 12:00 PM (Noon) ET / NYC time\nhttps://us06web.zoom.us/j/83286188244\nPasscode: 240515 (you may or may not be prompted to enter the password)\nNo registration needed
URL:https://laudatosimovement.org/event/laudato-si-community-contemplation-9/2031-02-12/
LOCATION:online
END:VEVENT
BEGIN:VEVENT
DTSTART;TZID=Europe/Rome:20310219T180000
DTEND;TZID=Europe/Rome:20310219T190000
DTSTAMP:20260420T065720
CREATED:20250714T133144Z
LAST-MODIFIED:20260309T134829Z
UID:10000932-1929290400-1929294000@laudatosimovement.org
SUMMARY:LAUDATO SI COMMUNITY CONTEMPLATION
DESCRIPTION:A sacred contemplation space for spiritual nourishment and ecological conversion. – Shorter version\nWhat to Expect:\n• Sessions (in English only) that last about 30–40 minutes\n• Each includes a short reflection\, opening prayer\, and a contemplative practice\n• At the half-hour mark\, those who need to leave may quietly sign off\n• Others are welcome to stay for 10 minutes of small group sharing\, building spiritual community\, and solidarity\n• We close together with a final goodbye \nThis weekly rhythm of community contemplation helps us live more deeply into our ecological vocation\, remembering that we are instruments of a God who leads us—even when we cannot yet see the path. \nJoin us every Wednesday at 12:00 PM (Noon) ET / NYC time\nhttps://us06web.zoom.us/j/83286188244\nPasscode: 240515 (you may or may not be prompted to enter the password)\nNo registration needed
URL:https://laudatosimovement.org/event/laudato-si-community-contemplation-9/2031-02-19/
LOCATION:online
END:VEVENT
BEGIN:VEVENT
DTSTART;TZID=Europe/Rome:20310226T180000
DTEND;TZID=Europe/Rome:20310226T190000
DTSTAMP:20260420T065720
CREATED:20250714T133144Z
LAST-MODIFIED:20260309T134829Z
UID:10000933-1929895200-1929898800@laudatosimovement.org
SUMMARY:LAUDATO SI COMMUNITY CONTEMPLATION
DESCRIPTION:A sacred contemplation space for spiritual nourishment and ecological conversion. – Shorter version\nWhat to Expect:\n• Sessions (in English only) that last about 30–40 minutes\n• Each includes a short reflection\, opening prayer\, and a contemplative practice\n• At the half-hour mark\, those who need to leave may quietly sign off\n• Others are welcome to stay for 10 minutes of small group sharing\, building spiritual community\, and solidarity\n• We close together with a final goodbye \nThis weekly rhythm of community contemplation helps us live more deeply into our ecological vocation\, remembering that we are instruments of a God who leads us—even when we cannot yet see the path. \nJoin us every Wednesday at 12:00 PM (Noon) ET / NYC time\nhttps://us06web.zoom.us/j/83286188244\nPasscode: 240515 (you may or may not be prompted to enter the password)\nNo registration needed
URL:https://laudatosimovement.org/event/laudato-si-community-contemplation-9/2031-02-26/
LOCATION:online
END:VEVENT
BEGIN:VEVENT
DTSTART;TZID=Europe/Rome:20310305T180000
DTEND;TZID=Europe/Rome:20310305T190000
DTSTAMP:20260420T065720
CREATED:20250714T133144Z
LAST-MODIFIED:20260309T134829Z
UID:10000934-1930500000-1930503600@laudatosimovement.org
SUMMARY:LAUDATO SI COMMUNITY CONTEMPLATION
DESCRIPTION:A sacred contemplation space for spiritual nourishment and ecological conversion. – Shorter version\nWhat to Expect:\n• Sessions (in English only) that last about 30–40 minutes\n• Each includes a short reflection\, opening prayer\, and a contemplative practice\n• At the half-hour mark\, those who need to leave may quietly sign off\n• Others are welcome to stay for 10 minutes of small group sharing\, building spiritual community\, and solidarity\n• We close together with a final goodbye \nThis weekly rhythm of community contemplation helps us live more deeply into our ecological vocation\, remembering that we are instruments of a God who leads us—even when we cannot yet see the path. \nJoin us every Wednesday at 12:00 PM (Noon) ET / NYC time\nhttps://us06web.zoom.us/j/83286188244\nPasscode: 240515 (you may or may not be prompted to enter the password)\nNo registration needed
URL:https://laudatosimovement.org/event/laudato-si-community-contemplation-9/2031-03-05/
LOCATION:online
END:VEVENT
END:VCALENDAR